BEGIN:VCALENDAR
VERSION:2.0
PRODID:-//SC Works Trident - ECPv6.15.20//NONSGML v1.0//EN
CALSCALE:GREGORIAN
METHOD:PUBLISH
X-ORIGINAL-URL:https://scworkstrident.org
X-WR-CALDESC:Events for SC Works Trident
REFRESH-INTERVAL;VALUE=DURATION:PT1H
X-Robots-Tag:noindex
X-PUBLISHED-TTL:PT1H
BEGIN:VTIMEZONE
TZID:America/New_York
BEGIN:DAYLIGHT
TZOFFSETFROM:-0500
TZOFFSETTO:-0400
TZNAME:EDT
DTSTART:20250309T070000
END:DAYLIGHT
BEGIN:STANDARD
TZOFFSETFROM:-0400
TZOFFSETTO:-0500
TZNAME:EST
DTSTART:20251102T060000
END:STANDARD
BEGIN:DAYLIGHT
TZOFFSETFROM:-0500
TZOFFSETTO:-0400
TZNAME:EDT
DTSTART:20260308T070000
END:DAYLIGHT
BEGIN:STANDARD
TZOFFSETFROM:-0400
TZOFFSETTO:-0500
TZNAME:EST
DTSTART:20261101T060000
END:STANDARD
BEGIN:DAYLIGHT
TZOFFSETFROM:-0500
TZOFFSETTO:-0400
TZNAME:EDT
DTSTART:20270314T070000
END:DAYLIGHT
BEGIN:STANDARD
TZOFFSETFROM:-0400
TZOFFSETTO:-0500
TZNAME:EST
DTSTART:20271107T060000
END:STANDARD
END:VTIMEZONE
BEGIN:VEVENT
DTSTART;TZID=America/New_York:20260508T100000
DTEND;TZID=America/New_York:20260508T130000
DTSTAMP:20260424T083436
CREATED:20260413T193115Z
LAST-MODIFIED:20260423T164223Z
UID:10003858-1778234400-1778245200@scworkstrident.org
SUMMARY:Charleston County Economic Development Career Fair
DESCRIPTION:Featuring employers from Charleston County across multiple in-demand industries in partnership with Charleston County Economic Development. \nMeet the Employers\n\nBeemok Hospitality Collection\nCharleston County Consolidated Dispatch\nCharleston Water System\nCollege of Charleston\nComfort Keepers\nEaton Corporation\nKeel\nLineage Logistics\nMaster Sheet Metal Inc.\nO.L. Thompson Construction Co. Inc.\nRATP Dev USA\nSanders Brothers Construction Co.\nSchnellecke Logistics\nSHL Medical\nSouthern Industries\nSpinx Company\nThe Boeing Project\n\n 
URL:https://scworkstrident.org/event/charleston-county-economic-development-job-fair/
LOCATION:SC Works Charleston\, 1930 Hanahan Road Suite 200 - Room 108\, North Charleston\, SC\, 29406\, United States
CATEGORIES:In-Person Event,Job Fair
END:VEVENT
END:VCALENDAR