BEGIN:VCALENDAR
VERSION:2.0
PRODID:-//SC Works Trident - ECPv6.15.20//NONSGML v1.0//EN
CALSCALE:GREGORIAN
METHOD:PUBLISH
X-ORIGINAL-URL:https://scworkstrident.org
X-WR-CALDESC:Events for SC Works Trident
REFRESH-INTERVAL;VALUE=DURATION:PT1H
X-Robots-Tag:noindex
X-PUBLISHED-TTL:PT1H
BEGIN:VTIMEZONE
TZID:America/New_York
BEGIN:DAYLIGHT
TZOFFSETFROM:-0500
TZOFFSETTO:-0400
TZNAME:EDT
DTSTART:20250309T070000
END:DAYLIGHT
BEGIN:STANDARD
TZOFFSETFROM:-0400
TZOFFSETTO:-0500
TZNAME:EST
DTSTART:20251102T060000
END:STANDARD
BEGIN:DAYLIGHT
TZOFFSETFROM:-0500
TZOFFSETTO:-0400
TZNAME:EDT
DTSTART:20260308T070000
END:DAYLIGHT
BEGIN:STANDARD
TZOFFSETFROM:-0400
TZOFFSETTO:-0500
TZNAME:EST
DTSTART:20261101T060000
END:STANDARD
BEGIN:DAYLIGHT
TZOFFSETFROM:-0500
TZOFFSETTO:-0400
TZNAME:EDT
DTSTART:20270314T070000
END:DAYLIGHT
BEGIN:STANDARD
TZOFFSETFROM:-0400
TZOFFSETTO:-0500
TZNAME:EST
DTSTART:20271107T060000
END:STANDARD
END:VTIMEZONE
BEGIN:VEVENT
DTSTART;TZID=America/New_York:20261105T150000
DTEND;TZID=America/New_York:20261105T160000
DTSTAMP:20260419T143954
CREATED:20260114T205542Z
LAST-MODIFIED:20260115T193138Z
UID:10003642-1793890800-1793894400@scworkstrident.org
SUMMARY:Info Session
DESCRIPTION:3PM Every Thursday at SC Works Charleston\nWalk-ins welcome! Info sessions are a great way to explore training opportunities and receive details about financial assistance and career guidance. Participating in a training program can lead to better employment opportunities while developing new skills.
URL:https://scworkstrident.org/event/info-session-4/2026-11-05/
LOCATION:SC Works Charleston\, 1930 Hanahan Road Suite 200 - Room 108\, North Charleston\, SC\, 29406\, United States
CATEGORIES:Information Session
END:VEVENT
BEGIN:VEVENT
DTSTART;TZID=America/New_York:20261105T150000
DTEND;TZID=America/New_York:20261105T170000
DTSTAMP:20260419T143954
CREATED:20251104T204250Z
LAST-MODIFIED:20251104T204250Z
UID:10003379-1793890800-1793898000@scworkstrident.org
SUMMARY:Virtual Workshop: Using SC Works Online Services (SCWOS)
DESCRIPTION:Navigate SCWOS efficiently and take advantage of meaningful resources like the job search portal\, resume builder\, skills and career assessments\, labor market trends and more. \n✅ Ready to unlock the potential of SCWOS? Register here.
URL:https://scworkstrident.org/event/virtual-workshop-using-sc-works-online-services-scwos/2026-11-05/
CATEGORIES:Virtual Event
END:VEVENT
BEGIN:VEVENT
DTSTART;TZID=America/New_York:20261109T090000
DTEND;TZID=America/New_York:20261109T100000
DTSTAMP:20260419T143954
CREATED:20260402T155122Z
LAST-MODIFIED:20260402T155122Z
UID:10003795-1794214800-1794218400@scworkstrident.org
SUMMARY:Info Session
DESCRIPTION:9AM Every Monday at SC Works Dorchester\nWalk-ins welcome! Info sessions are a great way to explore training opportunities and receive details about financial assistance and career guidance. Participating in a training program can lead to better employment opportunities while developing new skills.
URL:https://scworkstrident.org/event/info-session-6/2026-11-09/
LOCATION:SC Works Dorchester\, 1325-A Boone Hill Road\, Summerville\, SC\, 29483\, United States
CATEGORIES:Information Session
END:VEVENT
BEGIN:VEVENT
DTSTART;TZID=America/New_York:20261109T110000
DTEND;TZID=America/New_York:20261109T120000
DTSTAMP:20260419T143954
CREATED:20260402T155510Z
LAST-MODIFIED:20260402T155510Z
UID:10003836-1794222000-1794225600@scworkstrident.org
SUMMARY:Info Session
DESCRIPTION:11AM Every Monday at Berkeley Adult Education\nWalk-ins welcome! Info sessions are a great way to explore training opportunities and receive details about financial assistance and career guidance. Participating in a training program can lead to better employment opportunities while developing new skills.
URL:https://scworkstrident.org/event/info-session-7/2026-11-09/
LOCATION:Berkeley Adult Education\, 221 Easter Main Street\, Moncks Corner\, South Carolina\, 29461
CATEGORIES:Information Session
END:VEVENT
BEGIN:VEVENT
DTSTART;TZID=America/New_York:20261109T150000
DTEND;TZID=America/New_York:20261109T160000
DTSTAMP:20260419T143954
CREATED:20260112T205049Z
LAST-MODIFIED:20260115T192637Z
UID:10003591-1794236400-1794240000@scworkstrident.org
SUMMARY:Info Session
DESCRIPTION:3PM Every Monday at SC Works Dorchester\nWalk-ins welcome! Info sessions are a great way to explore training opportunities and receive details about financial assistance and career guidance. Participating in a training program can lead to better employment opportunities while developing new skills.
URL:https://scworkstrident.org/event/info-session-2/2026-11-09/
LOCATION:SC Works Dorchester\, 1325-A Boone Hill Road\, Summerville\, SC\, 29483\, United States
CATEGORIES:Information Session
END:VEVENT
BEGIN:VEVENT
DTSTART;TZID=America/New_York:20261110T090000
DTEND;TZID=America/New_York:20261110T100000
DTSTAMP:20260419T143954
CREATED:20260115T193334Z
LAST-MODIFIED:20260115T193334Z
UID:10003696-1794301200-1794304800@scworkstrident.org
SUMMARY:Info Session
DESCRIPTION:9AM Every Tuesday at SC Works Charleston\nWalk-ins welcome! Info sessions are a great way to explore training opportunities and receive details about financial assistance and career guidance. Participating in a training program can lead to better employment opportunities while developing new skills.
URL:https://scworkstrident.org/event/info-session-5/2026-11-10/
LOCATION:SC Works Charleston\, 1930 Hanahan Road Suite 200 - Room 108\, North Charleston\, SC\, 29406\, United States
CATEGORIES:Information Session
END:VEVENT
BEGIN:VEVENT
DTSTART;TZID=America/New_York:20261111T100000
DTEND;TZID=America/New_York:20261111T120000
DTSTAMP:20260419T143954
CREATED:20251104T171502Z
LAST-MODIFIED:20251104T183835Z
UID:10002503-1794391200-1794398400@scworkstrident.org
SUMMARY:Virtual Workshop: Cover Letter Writing
DESCRIPTION:Discover tips to help you craft professional\, personalized cover letters for any job you apply to. \n✅ Register to attend here.
URL:https://scworkstrident.org/event/virtual-workshop-cover-letter-writing/2026-11-11/
CATEGORIES:Virtual Event
END:VEVENT
BEGIN:VEVENT
DTSTART;TZID=America/New_York:20261111T110000
DTEND;TZID=America/New_York:20261111T130000
DTSTAMP:20260419T143954
CREATED:20251104T200720Z
LAST-MODIFIED:20251104T200720Z
UID:10003318-1794394800-1794402000@scworkstrident.org
SUMMARY:Virtual Workshop: Resume Writing
DESCRIPTION:Turn your work experience into a polished\, professional resume that opens doors. Learn how to tailor your resume for each job opportunity. \n✅ Sign up.
URL:https://scworkstrident.org/event/virtual-workshop-resume-writing-2/2026-11-11/
CATEGORIES:Virtual Event
END:VEVENT
BEGIN:VEVENT
DTSTART;TZID=America/New_York:20261112T140000
DTEND;TZID=America/New_York:20261112T160000
DTSTAMP:20260419T143954
CREATED:20251104T204344Z
LAST-MODIFIED:20251104T204344Z
UID:10003431-1794492000-1794499200@scworkstrident.org
SUMMARY:Virtual Workshop: Using SC Works Online Services (SCWOS)
DESCRIPTION:Navigate SCWOS efficiently and take advantage of meaningful resources like the job search portal\, resume builder\, skills and career assessments\, labor market trends and more. \n✅ Ready to unlock the potential of SCWOS? Register here.
URL:https://scworkstrident.org/event/virtual-workshop-using-sc-works-online-services-scwos-2/2026-11-12/
CATEGORIES:Virtual Event
END:VEVENT
BEGIN:VEVENT
DTSTART;TZID=America/New_York:20261112T150000
DTEND;TZID=America/New_York:20261112T160000
DTSTAMP:20260419T143954
CREATED:20260114T205542Z
LAST-MODIFIED:20260115T193138Z
UID:10003643-1794495600-1794499200@scworkstrident.org
SUMMARY:Info Session
DESCRIPTION:3PM Every Thursday at SC Works Charleston\nWalk-ins welcome! Info sessions are a great way to explore training opportunities and receive details about financial assistance and career guidance. Participating in a training program can lead to better employment opportunities while developing new skills.
URL:https://scworkstrident.org/event/info-session-4/2026-11-12/
LOCATION:SC Works Charleston\, 1930 Hanahan Road Suite 200 - Room 108\, North Charleston\, SC\, 29406\, United States
CATEGORIES:Information Session
END:VEVENT
BEGIN:VEVENT
DTSTART;TZID=America/New_York:20261116T090000
DTEND;TZID=America/New_York:20261116T100000
DTSTAMP:20260419T143954
CREATED:20260402T155122Z
LAST-MODIFIED:20260402T155122Z
UID:10003796-1794819600-1794823200@scworkstrident.org
SUMMARY:Info Session
DESCRIPTION:9AM Every Monday at SC Works Dorchester\nWalk-ins welcome! Info sessions are a great way to explore training opportunities and receive details about financial assistance and career guidance. Participating in a training program can lead to better employment opportunities while developing new skills.
URL:https://scworkstrident.org/event/info-session-6/2026-11-16/
LOCATION:SC Works Dorchester\, 1325-A Boone Hill Road\, Summerville\, SC\, 29483\, United States
CATEGORIES:Information Session
END:VEVENT
BEGIN:VEVENT
DTSTART;TZID=America/New_York:20261116T110000
DTEND;TZID=America/New_York:20261116T120000
DTSTAMP:20260419T143954
CREATED:20260402T155510Z
LAST-MODIFIED:20260402T155510Z
UID:10003837-1794826800-1794830400@scworkstrident.org
SUMMARY:Info Session
DESCRIPTION:11AM Every Monday at Berkeley Adult Education\nWalk-ins welcome! Info sessions are a great way to explore training opportunities and receive details about financial assistance and career guidance. Participating in a training program can lead to better employment opportunities while developing new skills.
URL:https://scworkstrident.org/event/info-session-7/2026-11-16/
LOCATION:Berkeley Adult Education\, 221 Easter Main Street\, Moncks Corner\, South Carolina\, 29461
CATEGORIES:Information Session
END:VEVENT
BEGIN:VEVENT
DTSTART;TZID=America/New_York:20261116T150000
DTEND;TZID=America/New_York:20261116T160000
DTSTAMP:20260419T143954
CREATED:20260112T205049Z
LAST-MODIFIED:20260115T192637Z
UID:10003592-1794841200-1794844800@scworkstrident.org
SUMMARY:Info Session
DESCRIPTION:3PM Every Monday at SC Works Dorchester\nWalk-ins welcome! Info sessions are a great way to explore training opportunities and receive details about financial assistance and career guidance. Participating in a training program can lead to better employment opportunities while developing new skills.
URL:https://scworkstrident.org/event/info-session-2/2026-11-16/
LOCATION:SC Works Dorchester\, 1325-A Boone Hill Road\, Summerville\, SC\, 29483\, United States
CATEGORIES:Information Session
END:VEVENT
BEGIN:VEVENT
DTSTART;TZID=America/New_York:20261117T090000
DTEND;TZID=America/New_York:20261117T100000
DTSTAMP:20260419T143954
CREATED:20260115T193334Z
LAST-MODIFIED:20260115T193334Z
UID:10003697-1794906000-1794909600@scworkstrident.org
SUMMARY:Info Session
DESCRIPTION:9AM Every Tuesday at SC Works Charleston\nWalk-ins welcome! Info sessions are a great way to explore training opportunities and receive details about financial assistance and career guidance. Participating in a training program can lead to better employment opportunities while developing new skills.
URL:https://scworkstrident.org/event/info-session-5/2026-11-17/
LOCATION:SC Works Charleston\, 1930 Hanahan Road Suite 200 - Room 108\, North Charleston\, SC\, 29406\, United States
CATEGORIES:Information Session
END:VEVENT
BEGIN:VEVENT
DTSTART;TZID=America/New_York:20261117T100000
DTEND;TZID=America/New_York:20261117T120000
DTSTAMP:20260419T143954
CREATED:20251104T191711Z
LAST-MODIFIED:20251104T191711Z
UID:10002574-1794909600-1794916800@scworkstrident.org
SUMMARY:Virtual Workshop: Job Searching
DESCRIPTION:Enhance your job search strategy with practical tools and tips to uncover new career opportunities. \n✅ I’m Ready to Sign Up
URL:https://scworkstrident.org/event/virtual-workshop-job-searching/2026-11-17/
CATEGORIES:Virtual Event
END:VEVENT
BEGIN:VEVENT
DTSTART;TZID=America/New_York:20261117T110000
DTEND;TZID=America/New_York:20261117T130000
DTSTAMP:20260419T143954
CREATED:20251104T165300Z
LAST-MODIFIED:20251112T220022Z
UID:10002263-1794913200-1794920400@scworkstrident.org
SUMMARY:Virtual Workshop: Communicating Effectively & Listening Skills
DESCRIPTION:Learn how to communicate clearly and listen with purpose to build stronger connections. \n✅ Save your spot here!
URL:https://scworkstrident.org/event/virtual-workshop-communicating-effectively-listening-skills-2/2026-11-17/
CATEGORIES:Virtual Event
ATTACH;FMTTYPE=image/jpeg:https://scworkstrident.org/wp-content/uploads/2025/08/AdobeStock_410423061-scaled-e1756413362939.jpeg
END:VEVENT
BEGIN:VEVENT
DTSTART;TZID=America/New_York:20261119T140000
DTEND;TZID=America/New_York:20261119T160000
DTSTAMP:20260419T143954
CREATED:20251104T165612Z
LAST-MODIFIED:20251104T184006Z
UID:10002443-1795096800-1795104000@scworkstrident.org
SUMMARY:Virtual Workshop: Communicating Effectively & Listening Skills
DESCRIPTION:Learn how to communicate clearly and listen with purpose to build stronger connections. \n✅ Save your spot here!
URL:https://scworkstrident.org/event/virtual-workshop-communicating-effectively-listening-skills-3/2026-11-19/
CATEGORIES:Virtual Event
END:VEVENT
BEGIN:VEVENT
DTSTART;TZID=America/New_York:20261119T150000
DTEND;TZID=America/New_York:20261119T160000
DTSTAMP:20260419T143954
CREATED:20260114T205542Z
LAST-MODIFIED:20260115T193138Z
UID:10003644-1795100400-1795104000@scworkstrident.org
SUMMARY:Info Session
DESCRIPTION:3PM Every Thursday at SC Works Charleston\nWalk-ins welcome! Info sessions are a great way to explore training opportunities and receive details about financial assistance and career guidance. Participating in a training program can lead to better employment opportunities while developing new skills.
URL:https://scworkstrident.org/event/info-session-4/2026-11-19/
LOCATION:SC Works Charleston\, 1930 Hanahan Road Suite 200 - Room 108\, North Charleston\, SC\, 29406\, United States
CATEGORIES:Information Session
END:VEVENT
BEGIN:VEVENT
DTSTART;TZID=America/New_York:20261123T090000
DTEND;TZID=America/New_York:20261123T100000
DTSTAMP:20260419T143954
CREATED:20260402T155122Z
LAST-MODIFIED:20260402T155122Z
UID:10003797-1795424400-1795428000@scworkstrident.org
SUMMARY:Info Session
DESCRIPTION:9AM Every Monday at SC Works Dorchester\nWalk-ins welcome! Info sessions are a great way to explore training opportunities and receive details about financial assistance and career guidance. Participating in a training program can lead to better employment opportunities while developing new skills.
URL:https://scworkstrident.org/event/info-session-6/2026-11-23/
LOCATION:SC Works Dorchester\, 1325-A Boone Hill Road\, Summerville\, SC\, 29483\, United States
CATEGORIES:Information Session
END:VEVENT
BEGIN:VEVENT
DTSTART;TZID=America/New_York:20261123T110000
DTEND;TZID=America/New_York:20261123T120000
DTSTAMP:20260419T143954
CREATED:20260402T155510Z
LAST-MODIFIED:20260402T155510Z
UID:10003838-1795431600-1795435200@scworkstrident.org
SUMMARY:Info Session
DESCRIPTION:11AM Every Monday at Berkeley Adult Education\nWalk-ins welcome! Info sessions are a great way to explore training opportunities and receive details about financial assistance and career guidance. Participating in a training program can lead to better employment opportunities while developing new skills.
URL:https://scworkstrident.org/event/info-session-7/2026-11-23/
LOCATION:Berkeley Adult Education\, 221 Easter Main Street\, Moncks Corner\, South Carolina\, 29461
CATEGORIES:Information Session
END:VEVENT
BEGIN:VEVENT
DTSTART;TZID=America/New_York:20261123T150000
DTEND;TZID=America/New_York:20261123T160000
DTSTAMP:20260419T143954
CREATED:20260112T205049Z
LAST-MODIFIED:20260115T192637Z
UID:10003593-1795446000-1795449600@scworkstrident.org
SUMMARY:Info Session
DESCRIPTION:3PM Every Monday at SC Works Dorchester\nWalk-ins welcome! Info sessions are a great way to explore training opportunities and receive details about financial assistance and career guidance. Participating in a training program can lead to better employment opportunities while developing new skills.
URL:https://scworkstrident.org/event/info-session-2/2026-11-23/
LOCATION:SC Works Dorchester\, 1325-A Boone Hill Road\, Summerville\, SC\, 29483\, United States
CATEGORIES:Information Session
END:VEVENT
BEGIN:VEVENT
DTSTART;TZID=America/New_York:20261124T090000
DTEND;TZID=America/New_York:20261124T100000
DTSTAMP:20260419T143954
CREATED:20260115T193334Z
LAST-MODIFIED:20260115T193334Z
UID:10003698-1795510800-1795514400@scworkstrident.org
SUMMARY:Info Session
DESCRIPTION:9AM Every Tuesday at SC Works Charleston\nWalk-ins welcome! Info sessions are a great way to explore training opportunities and receive details about financial assistance and career guidance. Participating in a training program can lead to better employment opportunities while developing new skills.
URL:https://scworkstrident.org/event/info-session-5/2026-11-24/
LOCATION:SC Works Charleston\, 1930 Hanahan Road Suite 200 - Room 108\, North Charleston\, SC\, 29406\, United States
CATEGORIES:Information Session
END:VEVENT
BEGIN:VEVENT
DTSTART;TZID=America/New_York:20261126T140000
DTEND;TZID=America/New_York:20261126T160000
DTSTAMP:20260419T143954
CREATED:20251104T192923Z
LAST-MODIFIED:20251104T192923Z
UID:10002874-1795701600-1795708800@scworkstrident.org
SUMMARY:Virtual Workshop: Job Searching & Interviewing
DESCRIPTION:Excel in targeting the right career opportunities for you and prepare to enter your next interview as a strong\, successful candidate. \n✅ Register here.
URL:https://scworkstrident.org/event/virtual-workshop-job-searching-interviewing-2/2026-11-26/
CATEGORIES:Virtual Event
END:VEVENT
BEGIN:VEVENT
DTSTART;TZID=America/New_York:20261126T150000
DTEND;TZID=America/New_York:20261126T160000
DTSTAMP:20260419T143954
CREATED:20260114T205542Z
LAST-MODIFIED:20260115T193138Z
UID:10003645-1795705200-1795708800@scworkstrident.org
SUMMARY:Info Session
DESCRIPTION:3PM Every Thursday at SC Works Charleston\nWalk-ins welcome! Info sessions are a great way to explore training opportunities and receive details about financial assistance and career guidance. Participating in a training program can lead to better employment opportunities while developing new skills.
URL:https://scworkstrident.org/event/info-session-4/2026-11-26/
LOCATION:SC Works Charleston\, 1930 Hanahan Road Suite 200 - Room 108\, North Charleston\, SC\, 29406\, United States
CATEGORIES:Information Session
END:VEVENT
BEGIN:VEVENT
DTSTART;TZID=America/New_York:20261130T090000
DTEND;TZID=America/New_York:20261130T100000
DTSTAMP:20260419T143954
CREATED:20260402T155122Z
LAST-MODIFIED:20260402T155122Z
UID:10003798-1796029200-1796032800@scworkstrident.org
SUMMARY:Info Session
DESCRIPTION:9AM Every Monday at SC Works Dorchester\nWalk-ins welcome! Info sessions are a great way to explore training opportunities and receive details about financial assistance and career guidance. Participating in a training program can lead to better employment opportunities while developing new skills.
URL:https://scworkstrident.org/event/info-session-6/2026-11-30/
LOCATION:SC Works Dorchester\, 1325-A Boone Hill Road\, Summerville\, SC\, 29483\, United States
CATEGORIES:Information Session
END:VEVENT
BEGIN:VEVENT
DTSTART;TZID=America/New_York:20261130T110000
DTEND;TZID=America/New_York:20261130T120000
DTSTAMP:20260419T143954
CREATED:20260402T155510Z
LAST-MODIFIED:20260402T155510Z
UID:10003839-1796036400-1796040000@scworkstrident.org
SUMMARY:Info Session
DESCRIPTION:11AM Every Monday at Berkeley Adult Education\nWalk-ins welcome! Info sessions are a great way to explore training opportunities and receive details about financial assistance and career guidance. Participating in a training program can lead to better employment opportunities while developing new skills.
URL:https://scworkstrident.org/event/info-session-7/2026-11-30/
LOCATION:Berkeley Adult Education\, 221 Easter Main Street\, Moncks Corner\, South Carolina\, 29461
CATEGORIES:Information Session
END:VEVENT
BEGIN:VEVENT
DTSTART;TZID=America/New_York:20261130T150000
DTEND;TZID=America/New_York:20261130T160000
DTSTAMP:20260419T143954
CREATED:20260112T205049Z
LAST-MODIFIED:20260115T192637Z
UID:10003594-1796050800-1796054400@scworkstrident.org
SUMMARY:Info Session
DESCRIPTION:3PM Every Monday at SC Works Dorchester\nWalk-ins welcome! Info sessions are a great way to explore training opportunities and receive details about financial assistance and career guidance. Participating in a training program can lead to better employment opportunities while developing new skills.
URL:https://scworkstrident.org/event/info-session-2/2026-11-30/
LOCATION:SC Works Dorchester\, 1325-A Boone Hill Road\, Summerville\, SC\, 29483\, United States
CATEGORIES:Information Session
END:VEVENT
BEGIN:VEVENT
DTSTART;TZID=America/New_York:20261201T090000
DTEND;TZID=America/New_York:20261201T100000
DTSTAMP:20260419T143954
CREATED:20260115T193334Z
LAST-MODIFIED:20260115T193334Z
UID:10003699-1796115600-1796119200@scworkstrident.org
SUMMARY:Info Session
DESCRIPTION:9AM Every Tuesday at SC Works Charleston\nWalk-ins welcome! Info sessions are a great way to explore training opportunities and receive details about financial assistance and career guidance. Participating in a training program can lead to better employment opportunities while developing new skills.
URL:https://scworkstrident.org/event/info-session-5/2026-12-01/
LOCATION:SC Works Charleston\, 1930 Hanahan Road Suite 200 - Room 108\, North Charleston\, SC\, 29406\, United States
CATEGORIES:Information Session
END:VEVENT
BEGIN:VEVENT
DTSTART;TZID=America/New_York:20261201T100000
DTEND;TZID=America/New_York:20261201T120000
DTSTAMP:20260419T143955
CREATED:20251104T191858Z
LAST-MODIFIED:20251104T191858Z
UID:10002695-1796119200-1796126400@scworkstrident.org
SUMMARY:Virtual Workshop: Job Searching
DESCRIPTION:Enhance your job search strategy with practical tools and tips to uncover new career opportunities. \n✅ I’m Ready to Sign Up
URL:https://scworkstrident.org/event/virtual-workshop-job-searching-2/2026-12-01/
CATEGORIES:Virtual Event
END:VEVENT
BEGIN:VEVENT
DTSTART;TZID=America/New_York:20261202T100000
DTEND;TZID=America/New_York:20261202T120000
DTSTAMP:20260419T143955
CREATED:20251104T192553Z
LAST-MODIFIED:20251104T192816Z
UID:10002755-1796205600-1796212800@scworkstrident.org
SUMMARY:Virtual Workshop: Job Searching & Interviewing
DESCRIPTION:Excel in targeting the right career opportunities for you and prepare to enter your next interview as a strong\, successful candidate. \n✅ Register here.
URL:https://scworkstrident.org/event/virtual-workshop-job-searching-interviewing/2026-12-02/
CATEGORIES:Virtual Event
END:VEVENT
END:VCALENDAR