BEGIN:VCALENDAR
VERSION:2.0
PRODID:-//SC Works Trident - ECPv6.15.20//NONSGML v1.0//EN
CALSCALE:GREGORIAN
METHOD:PUBLISH
X-WR-CALNAME:SC Works Trident
X-ORIGINAL-URL:https://scworkstrident.org
X-WR-CALDESC:Events for SC Works Trident
REFRESH-INTERVAL;VALUE=DURATION:PT1H
X-Robots-Tag:noindex
X-PUBLISHED-TTL:PT1H
BEGIN:VTIMEZONE
TZID:America/New_York
BEGIN:DAYLIGHT
TZOFFSETFROM:-0500
TZOFFSETTO:-0400
TZNAME:EDT
DTSTART:20250309T070000
END:DAYLIGHT
BEGIN:STANDARD
TZOFFSETFROM:-0400
TZOFFSETTO:-0500
TZNAME:EST
DTSTART:20251102T060000
END:STANDARD
BEGIN:DAYLIGHT
TZOFFSETFROM:-0500
TZOFFSETTO:-0400
TZNAME:EDT
DTSTART:20260308T070000
END:DAYLIGHT
BEGIN:STANDARD
TZOFFSETFROM:-0400
TZOFFSETTO:-0500
TZNAME:EST
DTSTART:20261101T060000
END:STANDARD
BEGIN:DAYLIGHT
TZOFFSETFROM:-0500
TZOFFSETTO:-0400
TZNAME:EDT
DTSTART:20270314T070000
END:DAYLIGHT
BEGIN:STANDARD
TZOFFSETFROM:-0400
TZOFFSETTO:-0500
TZNAME:EST
DTSTART:20271107T060000
END:STANDARD
END:VTIMEZONE
BEGIN:VEVENT
DTSTART;TZID=America/New_York:20260331T090000
DTEND;TZID=America/New_York:20260331T100000
DTSTAMP:20260424T101819
CREATED:20260115T193334Z
LAST-MODIFIED:20260115T193334Z
UID:10003664-1774947600-1774951200@scworkstrident.org
SUMMARY:Info Session
DESCRIPTION:9AM Every Tuesday at SC Works Charleston\nWalk-ins welcome! Info sessions are a great way to explore training opportunities and receive details about financial assistance and career guidance. Participating in a training program can lead to better employment opportunities while developing new skills.
URL:https://scworkstrident.org/event/info-session-5/2026-03-31/
LOCATION:SC Works Charleston\, 1930 Hanahan Road Suite 200 - Room 108\, North Charleston\, SC\, 29406\, United States
CATEGORIES:Information Session
END:VEVENT
BEGIN:VEVENT
DTSTART;TZID=America/New_York:20260330T150000
DTEND;TZID=America/New_York:20260330T160000
DTSTAMP:20260424T101819
CREATED:20260112T205049Z
LAST-MODIFIED:20260115T192637Z
UID:10003559-1774882800-1774886400@scworkstrident.org
SUMMARY:Info Session
DESCRIPTION:3PM Every Monday at SC Works Dorchester\nWalk-ins welcome! Info sessions are a great way to explore training opportunities and receive details about financial assistance and career guidance. Participating in a training program can lead to better employment opportunities while developing new skills.
URL:https://scworkstrident.org/event/info-session-2/2026-03-30/
LOCATION:SC Works Dorchester\, 1325-A Boone Hill Road\, Summerville\, SC\, 29483\, United States
CATEGORIES:Information Session
END:VEVENT
BEGIN:VEVENT
DTSTART;TZID=America/New_York:20260330T090000
DTEND;TZID=America/New_York:20260330T100000
DTSTAMP:20260424T101819
CREATED:20260112T204442Z
LAST-MODIFIED:20260115T192511Z
UID:10003508-1774861200-1774864800@scworkstrident.org
SUMMARY:Info Session
DESCRIPTION:9AM Every Monday at our Berkeley and Dorchester Centers\nWalk-ins welcome! Info sessions are a great way to explore training opportunities and receive details about financial assistance and career guidance. Participating in a training program can lead to better employment opportunities while developing new skills.
URL:https://scworkstrident.org/event/info-session/2026-03-30/
LOCATION:South Carolina
CATEGORIES:Information Session
END:VEVENT
BEGIN:VEVENT
DTSTART;TZID=America/New_York:20260326T150000
DTEND;TZID=America/New_York:20260326T160000
DTSTAMP:20260424T101819
CREATED:20260114T205542Z
LAST-MODIFIED:20260115T193138Z
UID:10003610-1774537200-1774540800@scworkstrident.org
SUMMARY:Info Session
DESCRIPTION:3PM Every Thursday at SC Works Charleston\nWalk-ins welcome! Info sessions are a great way to explore training opportunities and receive details about financial assistance and career guidance. Participating in a training program can lead to better employment opportunities while developing new skills.
URL:https://scworkstrident.org/event/info-session-4/2026-03-26/
LOCATION:SC Works Charleston\, 1930 Hanahan Road Suite 200 - Room 108\, North Charleston\, SC\, 29406\, United States
CATEGORIES:Information Session
END:VEVENT
BEGIN:VEVENT
DTSTART;TZID=America/New_York:20260326T140000
DTEND;TZID=America/New_York:20260326T160000
DTSTAMP:20260424T101819
CREATED:20251104T192923Z
LAST-MODIFIED:20251104T192923Z
UID:10002866-1774533600-1774540800@scworkstrident.org
SUMMARY:Virtual Workshop: Job Searching & Interviewing
DESCRIPTION:Excel in targeting the right career opportunities for you and prepare to enter your next interview as a strong\, successful candidate. \n✅ Register here.
URL:https://scworkstrident.org/event/virtual-workshop-job-searching-interviewing-2/2026-03-26/
LOCATION:South Carolina
CATEGORIES:Virtual Event
END:VEVENT
BEGIN:VEVENT
DTSTART;TZID=America/New_York:20260324T090000
DTEND;TZID=America/New_York:20260324T100000
DTSTAMP:20260424T101819
CREATED:20260115T193334Z
LAST-MODIFIED:20260115T193334Z
UID:10003663-1774342800-1774346400@scworkstrident.org
SUMMARY:Info Session
DESCRIPTION:9AM Every Tuesday at SC Works Charleston\nWalk-ins welcome! Info sessions are a great way to explore training opportunities and receive details about financial assistance and career guidance. Participating in a training program can lead to better employment opportunities while developing new skills.
URL:https://scworkstrident.org/event/info-session-5/2026-03-24/
LOCATION:SC Works Charleston\, 1930 Hanahan Road Suite 200 - Room 108\, North Charleston\, SC\, 29406\, United States
CATEGORIES:Information Session
END:VEVENT
END:VCALENDAR