BEGIN:VCALENDAR
VERSION:2.0
PRODID:-//SC Works Trident - ECPv6.15.20//NONSGML v1.0//EN
CALSCALE:GREGORIAN
METHOD:PUBLISH
X-WR-CALNAME:SC Works Trident
X-ORIGINAL-URL:https://scworkstrident.org
X-WR-CALDESC:Events for SC Works Trident
REFRESH-INTERVAL;VALUE=DURATION:PT1H
X-Robots-Tag:noindex
X-PUBLISHED-TTL:PT1H
BEGIN:VTIMEZONE
TZID:America/New_York
BEGIN:DAYLIGHT
TZOFFSETFROM:-0500
TZOFFSETTO:-0400
TZNAME:EDT
DTSTART:20250309T070000
END:DAYLIGHT
BEGIN:STANDARD
TZOFFSETFROM:-0400
TZOFFSETTO:-0500
TZNAME:EST
DTSTART:20251102T060000
END:STANDARD
BEGIN:DAYLIGHT
TZOFFSETFROM:-0500
TZOFFSETTO:-0400
TZNAME:EDT
DTSTART:20260308T070000
END:DAYLIGHT
BEGIN:STANDARD
TZOFFSETFROM:-0400
TZOFFSETTO:-0500
TZNAME:EST
DTSTART:20261101T060000
END:STANDARD
BEGIN:DAYLIGHT
TZOFFSETFROM:-0500
TZOFFSETTO:-0400
TZNAME:EDT
DTSTART:20270314T070000
END:DAYLIGHT
BEGIN:STANDARD
TZOFFSETFROM:-0400
TZOFFSETTO:-0500
TZNAME:EST
DTSTART:20271107T060000
END:STANDARD
BEGIN:DAYLIGHT
TZOFFSETFROM:-0500
TZOFFSETTO:-0400
TZNAME:EDT
DTSTART:20280312T070000
END:DAYLIGHT
BEGIN:STANDARD
TZOFFSETFROM:-0400
TZOFFSETTO:-0500
TZNAME:EST
DTSTART:20281105T060000
END:STANDARD
END:VTIMEZONE
BEGIN:VEVENT
DTSTART;TZID=America/New_York:20260423T140000
DTEND;TZID=America/New_York:20260423T160000
DTSTAMP:20260422T051945
CREATED:20251104T192923Z
LAST-MODIFIED:20251104T192923Z
UID:10002867-1776952800-1776960000@scworkstrident.org
SUMMARY:Virtual Workshop: Job Searching & Interviewing
DESCRIPTION:Excel in targeting the right career opportunities for you and prepare to enter your next interview as a strong\, successful candidate. \n✅ Register here.
URL:https://scworkstrident.org/event/virtual-workshop-job-searching-interviewing-2/2026-04-23/
CATEGORIES:Virtual Event
END:VEVENT
BEGIN:VEVENT
DTSTART;TZID=America/New_York:20260506T100000
DTEND;TZID=America/New_York:20260506T120000
DTSTAMP:20260422T051945
CREATED:20251104T192553Z
LAST-MODIFIED:20251104T192816Z
UID:10002748-1778061600-1778068800@scworkstrident.org
SUMMARY:Virtual Workshop: Job Searching & Interviewing
DESCRIPTION:Excel in targeting the right career opportunities for you and prepare to enter your next interview as a strong\, successful candidate. \n✅ Register here.
URL:https://scworkstrident.org/event/virtual-workshop-job-searching-interviewing/2026-05-06/
CATEGORIES:Virtual Event
END:VEVENT
BEGIN:VEVENT
DTSTART;TZID=America/New_York:20260528T140000
DTEND;TZID=America/New_York:20260528T160000
DTSTAMP:20260422T051945
CREATED:20251104T192923Z
LAST-MODIFIED:20251104T192923Z
UID:10002868-1779976800-1779984000@scworkstrident.org
SUMMARY:Virtual Workshop: Job Searching & Interviewing
DESCRIPTION:Excel in targeting the right career opportunities for you and prepare to enter your next interview as a strong\, successful candidate. \n✅ Register here.
URL:https://scworkstrident.org/event/virtual-workshop-job-searching-interviewing-2/2026-05-28/
CATEGORIES:Virtual Event
END:VEVENT
BEGIN:VEVENT
DTSTART;TZID=America/New_York:20260603T100000
DTEND;TZID=America/New_York:20260603T120000
DTSTAMP:20260422T051945
CREATED:20251104T192553Z
LAST-MODIFIED:20251104T192816Z
UID:10002749-1780480800-1780488000@scworkstrident.org
SUMMARY:Virtual Workshop: Job Searching & Interviewing
DESCRIPTION:Excel in targeting the right career opportunities for you and prepare to enter your next interview as a strong\, successful candidate. \n✅ Register here.
URL:https://scworkstrident.org/event/virtual-workshop-job-searching-interviewing/2026-06-03/
CATEGORIES:Virtual Event
END:VEVENT
BEGIN:VEVENT
DTSTART;TZID=America/New_York:20260625T140000
DTEND;TZID=America/New_York:20260625T160000
DTSTAMP:20260422T051945
CREATED:20251104T192923Z
LAST-MODIFIED:20251104T192923Z
UID:10002869-1782396000-1782403200@scworkstrident.org
SUMMARY:Virtual Workshop: Job Searching & Interviewing
DESCRIPTION:Excel in targeting the right career opportunities for you and prepare to enter your next interview as a strong\, successful candidate. \n✅ Register here.
URL:https://scworkstrident.org/event/virtual-workshop-job-searching-interviewing-2/2026-06-25/
CATEGORIES:Virtual Event
END:VEVENT
BEGIN:VEVENT
DTSTART;TZID=America/New_York:20260701T100000
DTEND;TZID=America/New_York:20260701T120000
DTSTAMP:20260422T051945
CREATED:20251104T192553Z
LAST-MODIFIED:20251104T192816Z
UID:10002750-1782900000-1782907200@scworkstrident.org
SUMMARY:Virtual Workshop: Job Searching & Interviewing
DESCRIPTION:Excel in targeting the right career opportunities for you and prepare to enter your next interview as a strong\, successful candidate. \n✅ Register here.
URL:https://scworkstrident.org/event/virtual-workshop-job-searching-interviewing/2026-07-01/
CATEGORIES:Virtual Event
END:VEVENT
BEGIN:VEVENT
DTSTART;TZID=America/New_York:20260723T140000
DTEND;TZID=America/New_York:20260723T160000
DTSTAMP:20260422T051945
CREATED:20251104T192923Z
LAST-MODIFIED:20251104T192923Z
UID:10002870-1784815200-1784822400@scworkstrident.org
SUMMARY:Virtual Workshop: Job Searching & Interviewing
DESCRIPTION:Excel in targeting the right career opportunities for you and prepare to enter your next interview as a strong\, successful candidate. \n✅ Register here.
URL:https://scworkstrident.org/event/virtual-workshop-job-searching-interviewing-2/2026-07-23/
CATEGORIES:Virtual Event
END:VEVENT
BEGIN:VEVENT
DTSTART;TZID=America/New_York:20260805T100000
DTEND;TZID=America/New_York:20260805T120000
DTSTAMP:20260422T051945
CREATED:20251104T192553Z
LAST-MODIFIED:20251104T192816Z
UID:10002751-1785924000-1785931200@scworkstrident.org
SUMMARY:Virtual Workshop: Job Searching & Interviewing
DESCRIPTION:Excel in targeting the right career opportunities for you and prepare to enter your next interview as a strong\, successful candidate. \n✅ Register here.
URL:https://scworkstrident.org/event/virtual-workshop-job-searching-interviewing/2026-08-05/
CATEGORIES:Virtual Event
END:VEVENT
BEGIN:VEVENT
DTSTART;TZID=America/New_York:20260827T140000
DTEND;TZID=America/New_York:20260827T160000
DTSTAMP:20260422T051945
CREATED:20251104T192923Z
LAST-MODIFIED:20251104T192923Z
UID:10002871-1787839200-1787846400@scworkstrident.org
SUMMARY:Virtual Workshop: Job Searching & Interviewing
DESCRIPTION:Excel in targeting the right career opportunities for you and prepare to enter your next interview as a strong\, successful candidate. \n✅ Register here.
URL:https://scworkstrident.org/event/virtual-workshop-job-searching-interviewing-2/2026-08-27/
CATEGORIES:Virtual Event
END:VEVENT
BEGIN:VEVENT
DTSTART;TZID=America/New_York:20260902T100000
DTEND;TZID=America/New_York:20260902T120000
DTSTAMP:20260422T051945
CREATED:20251104T192553Z
LAST-MODIFIED:20251104T192816Z
UID:10002752-1788343200-1788350400@scworkstrident.org
SUMMARY:Virtual Workshop: Job Searching & Interviewing
DESCRIPTION:Excel in targeting the right career opportunities for you and prepare to enter your next interview as a strong\, successful candidate. \n✅ Register here.
URL:https://scworkstrident.org/event/virtual-workshop-job-searching-interviewing/2026-09-02/
CATEGORIES:Virtual Event
END:VEVENT
BEGIN:VEVENT
DTSTART;TZID=America/New_York:20260924T140000
DTEND;TZID=America/New_York:20260924T160000
DTSTAMP:20260422T051945
CREATED:20251104T192923Z
LAST-MODIFIED:20251104T192923Z
UID:10002872-1790258400-1790265600@scworkstrident.org
SUMMARY:Virtual Workshop: Job Searching & Interviewing
DESCRIPTION:Excel in targeting the right career opportunities for you and prepare to enter your next interview as a strong\, successful candidate. \n✅ Register here.
URL:https://scworkstrident.org/event/virtual-workshop-job-searching-interviewing-2/2026-09-24/
CATEGORIES:Virtual Event
END:VEVENT
BEGIN:VEVENT
DTSTART;TZID=America/New_York:20261007T100000
DTEND;TZID=America/New_York:20261007T120000
DTSTAMP:20260422T051945
CREATED:20251104T192553Z
LAST-MODIFIED:20251104T192816Z
UID:10002753-1791367200-1791374400@scworkstrident.org
SUMMARY:Virtual Workshop: Job Searching & Interviewing
DESCRIPTION:Excel in targeting the right career opportunities for you and prepare to enter your next interview as a strong\, successful candidate. \n✅ Register here.
URL:https://scworkstrident.org/event/virtual-workshop-job-searching-interviewing/2026-10-07/
CATEGORIES:Virtual Event
END:VEVENT
BEGIN:VEVENT
DTSTART;TZID=America/New_York:20261022T140000
DTEND;TZID=America/New_York:20261022T160000
DTSTAMP:20260422T051945
CREATED:20251104T192923Z
LAST-MODIFIED:20251104T192923Z
UID:10002873-1792677600-1792684800@scworkstrident.org
SUMMARY:Virtual Workshop: Job Searching & Interviewing
DESCRIPTION:Excel in targeting the right career opportunities for you and prepare to enter your next interview as a strong\, successful candidate. \n✅ Register here.
URL:https://scworkstrident.org/event/virtual-workshop-job-searching-interviewing-2/2026-10-22/
CATEGORIES:Virtual Event
END:VEVENT
BEGIN:VEVENT
DTSTART;TZID=America/New_York:20261104T100000
DTEND;TZID=America/New_York:20261104T120000
DTSTAMP:20260422T051945
CREATED:20251104T192553Z
LAST-MODIFIED:20251104T192816Z
UID:10002754-1793786400-1793793600@scworkstrident.org
SUMMARY:Virtual Workshop: Job Searching & Interviewing
DESCRIPTION:Excel in targeting the right career opportunities for you and prepare to enter your next interview as a strong\, successful candidate. \n✅ Register here.
URL:https://scworkstrident.org/event/virtual-workshop-job-searching-interviewing/2026-11-04/
CATEGORIES:Virtual Event
END:VEVENT
BEGIN:VEVENT
DTSTART;TZID=America/New_York:20261126T140000
DTEND;TZID=America/New_York:20261126T160000
DTSTAMP:20260422T051945
CREATED:20251104T192923Z
LAST-MODIFIED:20251104T192923Z
UID:10002874-1795701600-1795708800@scworkstrident.org
SUMMARY:Virtual Workshop: Job Searching & Interviewing
DESCRIPTION:Excel in targeting the right career opportunities for you and prepare to enter your next interview as a strong\, successful candidate. \n✅ Register here.
URL:https://scworkstrident.org/event/virtual-workshop-job-searching-interviewing-2/2026-11-26/
CATEGORIES:Virtual Event
END:VEVENT
BEGIN:VEVENT
DTSTART;TZID=America/New_York:20261202T100000
DTEND;TZID=America/New_York:20261202T120000
DTSTAMP:20260422T051945
CREATED:20251104T192553Z
LAST-MODIFIED:20251104T192816Z
UID:10002755-1796205600-1796212800@scworkstrident.org
SUMMARY:Virtual Workshop: Job Searching & Interviewing
DESCRIPTION:Excel in targeting the right career opportunities for you and prepare to enter your next interview as a strong\, successful candidate. \n✅ Register here.
URL:https://scworkstrident.org/event/virtual-workshop-job-searching-interviewing/2026-12-02/
CATEGORIES:Virtual Event
END:VEVENT
BEGIN:VEVENT
DTSTART;TZID=America/New_York:20261224T140000
DTEND;TZID=America/New_York:20261224T160000
DTSTAMP:20260422T051945
CREATED:20251104T192923Z
LAST-MODIFIED:20251104T192923Z
UID:10002875-1798120800-1798128000@scworkstrident.org
SUMMARY:Virtual Workshop: Job Searching & Interviewing
DESCRIPTION:Excel in targeting the right career opportunities for you and prepare to enter your next interview as a strong\, successful candidate. \n✅ Register here.
URL:https://scworkstrident.org/event/virtual-workshop-job-searching-interviewing-2/2026-12-24/
CATEGORIES:Virtual Event
END:VEVENT
BEGIN:VEVENT
DTSTART;TZID=America/New_York:20270106T100000
DTEND;TZID=America/New_York:20270106T120000
DTSTAMP:20260422T051945
CREATED:20251104T192553Z
LAST-MODIFIED:20251104T192816Z
UID:10002756-1799229600-1799236800@scworkstrident.org
SUMMARY:Virtual Workshop: Job Searching & Interviewing
DESCRIPTION:Excel in targeting the right career opportunities for you and prepare to enter your next interview as a strong\, successful candidate. \n✅ Register here.
URL:https://scworkstrident.org/event/virtual-workshop-job-searching-interviewing/2027-01-06/
CATEGORIES:Virtual Event
END:VEVENT
BEGIN:VEVENT
DTSTART;TZID=America/New_York:20270128T140000
DTEND;TZID=America/New_York:20270128T160000
DTSTAMP:20260422T051945
CREATED:20251104T192923Z
LAST-MODIFIED:20251104T192923Z
UID:10002876-1801144800-1801152000@scworkstrident.org
SUMMARY:Virtual Workshop: Job Searching & Interviewing
DESCRIPTION:Excel in targeting the right career opportunities for you and prepare to enter your next interview as a strong\, successful candidate. \n✅ Register here.
URL:https://scworkstrident.org/event/virtual-workshop-job-searching-interviewing-2/2027-01-28/
CATEGORIES:Virtual Event
END:VEVENT
BEGIN:VEVENT
DTSTART;TZID=America/New_York:20270203T100000
DTEND;TZID=America/New_York:20270203T120000
DTSTAMP:20260422T051945
CREATED:20251104T192553Z
LAST-MODIFIED:20251104T192816Z
UID:10002757-1801648800-1801656000@scworkstrident.org
SUMMARY:Virtual Workshop: Job Searching & Interviewing
DESCRIPTION:Excel in targeting the right career opportunities for you and prepare to enter your next interview as a strong\, successful candidate. \n✅ Register here.
URL:https://scworkstrident.org/event/virtual-workshop-job-searching-interviewing/2027-02-03/
CATEGORIES:Virtual Event
END:VEVENT
BEGIN:VEVENT
DTSTART;TZID=America/New_York:20270225T140000
DTEND;TZID=America/New_York:20270225T160000
DTSTAMP:20260422T051945
CREATED:20251104T192923Z
LAST-MODIFIED:20251104T192923Z
UID:10002877-1803564000-1803571200@scworkstrident.org
SUMMARY:Virtual Workshop: Job Searching & Interviewing
DESCRIPTION:Excel in targeting the right career opportunities for you and prepare to enter your next interview as a strong\, successful candidate. \n✅ Register here.
URL:https://scworkstrident.org/event/virtual-workshop-job-searching-interviewing-2/2027-02-25/
CATEGORIES:Virtual Event
END:VEVENT
BEGIN:VEVENT
DTSTART;TZID=America/New_York:20270303T100000
DTEND;TZID=America/New_York:20270303T120000
DTSTAMP:20260422T051945
CREATED:20251104T192553Z
LAST-MODIFIED:20251104T192816Z
UID:10002758-1804068000-1804075200@scworkstrident.org
SUMMARY:Virtual Workshop: Job Searching & Interviewing
DESCRIPTION:Excel in targeting the right career opportunities for you and prepare to enter your next interview as a strong\, successful candidate. \n✅ Register here.
URL:https://scworkstrident.org/event/virtual-workshop-job-searching-interviewing/2027-03-03/
CATEGORIES:Virtual Event
END:VEVENT
BEGIN:VEVENT
DTSTART;TZID=America/New_York:20270325T140000
DTEND;TZID=America/New_York:20270325T160000
DTSTAMP:20260422T051945
CREATED:20251104T192923Z
LAST-MODIFIED:20251104T192923Z
UID:10002878-1805983200-1805990400@scworkstrident.org
SUMMARY:Virtual Workshop: Job Searching & Interviewing
DESCRIPTION:Excel in targeting the right career opportunities for you and prepare to enter your next interview as a strong\, successful candidate. \n✅ Register here.
URL:https://scworkstrident.org/event/virtual-workshop-job-searching-interviewing-2/2027-03-25/
CATEGORIES:Virtual Event
END:VEVENT
BEGIN:VEVENT
DTSTART;TZID=America/New_York:20270407T100000
DTEND;TZID=America/New_York:20270407T120000
DTSTAMP:20260422T051945
CREATED:20251104T192553Z
LAST-MODIFIED:20251104T192816Z
UID:10002759-1807092000-1807099200@scworkstrident.org
SUMMARY:Virtual Workshop: Job Searching & Interviewing
DESCRIPTION:Excel in targeting the right career opportunities for you and prepare to enter your next interview as a strong\, successful candidate. \n✅ Register here.
URL:https://scworkstrident.org/event/virtual-workshop-job-searching-interviewing/2027-04-07/
CATEGORIES:Virtual Event
END:VEVENT
BEGIN:VEVENT
DTSTART;TZID=America/New_York:20270422T140000
DTEND;TZID=America/New_York:20270422T160000
DTSTAMP:20260422T051945
CREATED:20251104T192923Z
LAST-MODIFIED:20251104T192923Z
UID:10002879-1808402400-1808409600@scworkstrident.org
SUMMARY:Virtual Workshop: Job Searching & Interviewing
DESCRIPTION:Excel in targeting the right career opportunities for you and prepare to enter your next interview as a strong\, successful candidate. \n✅ Register here.
URL:https://scworkstrident.org/event/virtual-workshop-job-searching-interviewing-2/2027-04-22/
CATEGORIES:Virtual Event
END:VEVENT
BEGIN:VEVENT
DTSTART;TZID=America/New_York:20270505T100000
DTEND;TZID=America/New_York:20270505T120000
DTSTAMP:20260422T051945
CREATED:20251104T192553Z
LAST-MODIFIED:20251104T192816Z
UID:10002760-1809511200-1809518400@scworkstrident.org
SUMMARY:Virtual Workshop: Job Searching & Interviewing
DESCRIPTION:Excel in targeting the right career opportunities for you and prepare to enter your next interview as a strong\, successful candidate. \n✅ Register here.
URL:https://scworkstrident.org/event/virtual-workshop-job-searching-interviewing/2027-05-05/
CATEGORIES:Virtual Event
END:VEVENT
BEGIN:VEVENT
DTSTART;TZID=America/New_York:20270527T140000
DTEND;TZID=America/New_York:20270527T160000
DTSTAMP:20260422T051945
CREATED:20251104T192923Z
LAST-MODIFIED:20251104T192923Z
UID:10002880-1811426400-1811433600@scworkstrident.org
SUMMARY:Virtual Workshop: Job Searching & Interviewing
DESCRIPTION:Excel in targeting the right career opportunities for you and prepare to enter your next interview as a strong\, successful candidate. \n✅ Register here.
URL:https://scworkstrident.org/event/virtual-workshop-job-searching-interviewing-2/2027-05-27/
CATEGORIES:Virtual Event
END:VEVENT
BEGIN:VEVENT
DTSTART;TZID=America/New_York:20270602T100000
DTEND;TZID=America/New_York:20270602T120000
DTSTAMP:20260422T051945
CREATED:20251104T192553Z
LAST-MODIFIED:20251104T192816Z
UID:10002761-1811930400-1811937600@scworkstrident.org
SUMMARY:Virtual Workshop: Job Searching & Interviewing
DESCRIPTION:Excel in targeting the right career opportunities for you and prepare to enter your next interview as a strong\, successful candidate. \n✅ Register here.
URL:https://scworkstrident.org/event/virtual-workshop-job-searching-interviewing/2027-06-02/
CATEGORIES:Virtual Event
END:VEVENT
BEGIN:VEVENT
DTSTART;TZID=America/New_York:20270624T140000
DTEND;TZID=America/New_York:20270624T160000
DTSTAMP:20260422T051945
CREATED:20251104T192923Z
LAST-MODIFIED:20251104T192923Z
UID:10002881-1813845600-1813852800@scworkstrident.org
SUMMARY:Virtual Workshop: Job Searching & Interviewing
DESCRIPTION:Excel in targeting the right career opportunities for you and prepare to enter your next interview as a strong\, successful candidate. \n✅ Register here.
URL:https://scworkstrident.org/event/virtual-workshop-job-searching-interviewing-2/2027-06-24/
CATEGORIES:Virtual Event
END:VEVENT
BEGIN:VEVENT
DTSTART;TZID=America/New_York:20270707T100000
DTEND;TZID=America/New_York:20270707T120000
DTSTAMP:20260422T051945
CREATED:20251104T192553Z
LAST-MODIFIED:20251104T192816Z
UID:10002762-1814954400-1814961600@scworkstrident.org
SUMMARY:Virtual Workshop: Job Searching & Interviewing
DESCRIPTION:Excel in targeting the right career opportunities for you and prepare to enter your next interview as a strong\, successful candidate. \n✅ Register here.
URL:https://scworkstrident.org/event/virtual-workshop-job-searching-interviewing/2027-07-07/
CATEGORIES:Virtual Event
END:VEVENT
END:VCALENDAR