BEGIN:VCALENDAR
VERSION:2.0
PRODID:-//SC Works Trident - ECPv6.15.20//NONSGML v1.0//EN
CALSCALE:GREGORIAN
METHOD:PUBLISH
X-WR-CALNAME:SC Works Trident
X-ORIGINAL-URL:https://scworkstrident.org
X-WR-CALDESC:Events for SC Works Trident
REFRESH-INTERVAL;VALUE=DURATION:PT1H
X-Robots-Tag:noindex
X-PUBLISHED-TTL:PT1H
BEGIN:VTIMEZONE
TZID:America/New_York
BEGIN:DAYLIGHT
TZOFFSETFROM:-0500
TZOFFSETTO:-0400
TZNAME:EDT
DTSTART:20250309T070000
END:DAYLIGHT
BEGIN:STANDARD
TZOFFSETFROM:-0400
TZOFFSETTO:-0500
TZNAME:EST
DTSTART:20251102T060000
END:STANDARD
BEGIN:DAYLIGHT
TZOFFSETFROM:-0500
TZOFFSETTO:-0400
TZNAME:EDT
DTSTART:20260308T070000
END:DAYLIGHT
BEGIN:STANDARD
TZOFFSETFROM:-0400
TZOFFSETTO:-0500
TZNAME:EST
DTSTART:20261101T060000
END:STANDARD
BEGIN:DAYLIGHT
TZOFFSETFROM:-0500
TZOFFSETTO:-0400
TZNAME:EDT
DTSTART:20270314T070000
END:DAYLIGHT
BEGIN:STANDARD
TZOFFSETFROM:-0400
TZOFFSETTO:-0500
TZNAME:EST
DTSTART:20271107T060000
END:STANDARD
END:VTIMEZONE
BEGIN:VEVENT
DTSTART;TZID=America/New_York:20260507T160000
DTEND;TZID=America/New_York:20260507T190000
DTSTAMP:20260424T131226
CREATED:20260424T123436Z
LAST-MODIFIED:20260424T123437Z
UID:10003863-1778169600-1778180400@scworkstrident.org
SUMMARY:Town of Mount Pleasant Job Fair
DESCRIPTION:Learn about career opportunities with the Town of Mount Pleasant in: \n\nInformation Technology (IT)\nFinance\nBusiness License\nFire Department & Police Department\nCourt\nEngineering & Development Services\nRecreation\nPlanning\nLand Use & Neighborhoods\nPublic Service\nCommunications\n\nDepartment representatives will be available to discuss current openings\, answer your questions and accept resumes.
URL:https://scworkstrident.org/event/town-of-mount-pleasant-job-fair/2026-05-07/
LOCATION:100 Ann Edwards Lane\, 100 Ann Edwards Lane\, Mount Pleasant\, SC\, 29464
CATEGORIES:Job Fair
END:VEVENT
BEGIN:VEVENT
DTSTART;TZID=America/New_York:20260508T090000
DTEND;TZID=America/New_York:20260508T120000
DTSTAMP:20260424T131226
CREATED:20260424T123436Z
LAST-MODIFIED:20260424T123437Z
UID:10003864-1778230800-1778241600@scworkstrident.org
SUMMARY:Town of Mount Pleasant Job Fair
DESCRIPTION:Learn about career opportunities with the Town of Mount Pleasant in: \n\nInformation Technology (IT)\nFinance\nBusiness License\nFire Department & Police Department\nCourt\nEngineering & Development Services\nRecreation\nPlanning\nLand Use & Neighborhoods\nPublic Service\nCommunications\n\nDepartment representatives will be available to discuss current openings\, answer your questions and accept resumes.
URL:https://scworkstrident.org/event/town-of-mount-pleasant-job-fair/2026-05-08/
LOCATION:100 Ann Edwards Lane\, 100 Ann Edwards Lane\, Mount Pleasant\, SC\, 29464
CATEGORIES:Job Fair
END:VEVENT
END:VCALENDAR